BEGIN:VCALENDAR
VERSION:2.0
PRODID:-//Glenside Irish Pub Dublin - ECPv6.15.17//NONSGML v1.0//EN
CALSCALE:GREGORIAN
METHOD:PUBLISH
X-WR-CALNAME:Glenside Irish Pub Dublin
X-ORIGINAL-URL:https://theglensidepub.ie
X-WR-CALDESC:Events for Glenside Irish Pub Dublin
REFRESH-INTERVAL;VALUE=DURATION:PT1H
X-Robots-Tag:noindex
X-PUBLISHED-TTL:PT1H
BEGIN:VTIMEZONE
TZID:UTC
BEGIN:STANDARD
TZOFFSETFROM:+0000
TZOFFSETTO:+0000
TZNAME:UTC
DTSTART:20240101T000000
END:STANDARD
END:VTIMEZONE
BEGIN:VEVENT
DTSTART;TZID=UTC:20250320T203000
DTEND;TZID=UTC:20250320T233000
DTSTAMP:20260422T113927
CREATED:20250317T113014Z
LAST-MODIFIED:20250317T113021Z
UID:794-1742502600-1742513400@theglensidepub.ie
SUMMARY:Glenside Attic Session 🎶
DESCRIPTION:Glenside Attic Session 🎶 \nLynda Lucas & Band – Performing the timeless music of Patsy Cline \n✨ Special guests: Niall Toner & Andrea Booth \n📅 March 20\, 2025\n🕣 8:45 PM\n📍 Glenside Pub\, Top Lounge\, Churchtown \n🎟 For more info\, contact Noel at 087 683 8817 \nDon’t miss an unforgettable night of classic country music! 🤠🎤
URL:https://theglensidepub.ie/event/glenside-attic-session-%f0%9f%8e%b6/
ATTACH;FMTTYPE=image/jpeg:https://theglensidepub.ie/wp-content/uploads/2025/03/aaaaaaa1111.jpg
END:VEVENT
END:VCALENDAR