BEGIN:VCALENDAR
VERSION:2.0
PRODID:-//Glenside Irish Pub Dublin - ECPv6.15.17//NONSGML v1.0//EN
CALSCALE:GREGORIAN
METHOD:PUBLISH
X-WR-CALNAME:Glenside Irish Pub Dublin
X-ORIGINAL-URL:https://theglensidepub.ie
X-WR-CALDESC:Events for Glenside Irish Pub Dublin
REFRESH-INTERVAL;VALUE=DURATION:PT1H
X-Robots-Tag:noindex
X-PUBLISHED-TTL:PT1H
BEGIN:VTIMEZONE
TZID:UTC
BEGIN:STANDARD
TZOFFSETFROM:+0000
TZOFFSETTO:+0000
TZNAME:UTC
DTSTART:20230101T000000
END:STANDARD
END:VTIMEZONE
BEGIN:VEVENT
DTSTART;TZID=UTC:20241114T203000
DTEND;TZID=UTC:20241114T233000
DTSTAMP:20260422T171048
CREATED:20241103T222741Z
LAST-MODIFIED:20241103T222741Z
UID:772-1731616200-1731627000@theglensidepub.ie
SUMMARY:The Sick and Indigent Song Club - Attic Session
DESCRIPTION:The Sick and Indigent Song Club – Attic Session\nwith special guests The Urban Mojo Blues Band \n📅 Date: November 14th\, 2024\n🕣 Time: 8:30 PM\n📍 Venue: Glenside Pub\, Top Lounge\, Churchtown \nAll are welcome! We especially invite those who enjoy a dedicated listening experience.\nFor more details\, contact Noel at 087 683 88 17. \nJoin us for an unforgettable evening of music!
URL:https://theglensidepub.ie/event/the-sick-and-indigent-song-club-attic-session/
ATTACH;FMTTYPE=image/jpeg:https://theglensidepub.ie/wp-content/uploads/2024/11/the-urban-mojo-blues-band-.jpg
END:VEVENT
END:VCALENDAR