BEGIN:VCALENDAR
VERSION:2.0
PRODID:-//Glenside Irish Pub Dublin - ECPv6.15.17//NONSGML v1.0//EN
CALSCALE:GREGORIAN
METHOD:PUBLISH
X-WR-CALNAME:Glenside Irish Pub Dublin
X-ORIGINAL-URL:https://theglensidepub.ie
X-WR-CALDESC:Events for Glenside Irish Pub Dublin
REFRESH-INTERVAL;VALUE=DURATION:PT1H
X-Robots-Tag:noindex
X-PUBLISHED-TTL:PT1H
BEGIN:VTIMEZONE
TZID:UTC
BEGIN:STANDARD
TZOFFSETFROM:+0000
TZOFFSETTO:+0000
TZNAME:UTC
DTSTART:20230101T000000
END:STANDARD
END:VTIMEZONE
BEGIN:VEVENT
DTSTART;TZID=UTC:20240714T150000
DTEND;TZID=UTC:20240714T180000
DTSTAMP:20260422T225950
CREATED:20240701T175848Z
LAST-MODIFIED:20240701T175902Z
UID:746-1720969200-1720980000@theglensidepub.ie
SUMMARY:COUNTRY MUSIC HOEDOWN & FUNDRAISER
DESCRIPTION:COUNTRY MUSIC HOEDOWN & FUNDRAISER  \nLEGENDS OF COUNTRY MUSIC with TOM HORAN & Band\nPlus Special Guests  \nSunday 14th July 2024\ntime : 3 pm -6 pm\nIn Aid of the IRISH CANCER SOCIETY\nIRISH MOTOR NEURONE DISESASE ASSOCIATION and IRISH HOSPICE FOUNDATION  \nFor more details\, contact Noel at 087 683 8817 or reach out to Sue or Peter at the Glenside Pub.
URL:https://theglensidepub.ie/event/746/
ATTACH;FMTTYPE=image/jpeg:https://theglensidepub.ie/wp-content/uploads/2024/07/event-glenside-.jpg
END:VEVENT
BEGIN:VEVENT
DTSTART;TZID=UTC:20240613T203000
DTEND;TZID=UTC:20240613T233000
DTSTAMP:20260422T225950
CREATED:20240528T142319Z
LAST-MODIFIED:20240528T142319Z
UID:742-1718310600-1718321400@theglensidepub.ie
SUMMARY:Glenside Attic Session
DESCRIPTION:Join us for an evening of exceptional music featuring Angie McLaughlin with special guests Shane McGrath and Josh Johnson. \nAlso performing: The Liz Baker\, a modern chanteuse\, with her brilliant band. \nEveryone is welcome. We especially appreciate a listening audience. \nFor more details\, contact Noel at 087 683 8817 or reach out to Sue or Peter at the Glenside Pub.
URL:https://theglensidepub.ie/event/glenside-attic-session/
ATTACH;FMTTYPE=image/jpeg:https://theglensidepub.ie/wp-content/uploads/2024/05/WhatsApp-Image-2024-05-24-at-17.14.48_bb14b7b0.jpg
END:VEVENT
BEGIN:VEVENT
DTSTART;TZID=UTC:20240602T213000
DTEND;TZID=UTC:20240602T233000
DTSTAMP:20260422T225950
CREATED:20240528T141259Z
LAST-MODIFIED:20240528T141355Z
UID:733-1717363800-1717371000@theglensidepub.ie
SUMMARY:LIAM BYRNE / BANK HOLIDAY SUNDAY
DESCRIPTION:Join us next Sunday at the Glenside for an unforgettable evening of entertainment featuring Liam\, a Christy Moore specialist. The show starts at 9:30 PM. \nArrive early to secure your spot and avoid disappointment. Don’t miss this fantastic performance!
URL:https://theglensidepub.ie/event/liam-byrne-bank-holiday-sunday/
ATTACH;FMTTYPE=image/jpeg:https://theglensidepub.ie/wp-content/uploads/2024/05/liam-byrne.jpg
END:VEVENT
BEGIN:VEVENT
DTSTART;TZID=UTC:20240530T203000
DTEND;TZID=UTC:20240530T203000
DTSTAMP:20260422T225950
CREATED:20240528T141624Z
LAST-MODIFIED:20240528T142350Z
UID:739-1717101000-1717101000@theglensidepub.ie
SUMMARY:Glenside Guitar Circle
DESCRIPTION:Glenside Guitar Circle \nTha Classic Acoustic Session since 2014  \nAll Welcome & all styles played
URL:https://theglensidepub.ie/event/glenside-guitar-circle/
ATTACH;FMTTYPE=image/jpeg:https://theglensidepub.ie/wp-content/uploads/2024/05/WhatsApp-Image-2024-05-24-at-17.14.29_ec547e87.jpg
END:VEVENT
BEGIN:VEVENT
DTSTART;TZID=UTC:20240516T203000
DTEND;TZID=UTC:20240516T233000
DTSTAMP:20260422T225950
CREATED:20240430T233753Z
LAST-MODIFIED:20240430T234031Z
UID:723-1715891400-1715902200@theglensidepub.ie
SUMMARY:Glenside Attic Sessions :  Cajazz featuring Carena Malocco & Alan Roberts  also the Pat Mac Band !
DESCRIPTION:Step into the soulful vibes of the Glenside Attic Sessions on May 16th\, 2024! Join us for a captivating evening of music that transcends genres\, featuring the dynamic Cajazz duo\, Carena Malocco & Alan Roberts\, alongside the electrifying sounds of the Pat Mac Band. From country blues to soulful ballads and rock ‘n’ roll classics\, this lineup promises an unforgettable musical journey. Let the melodies enchant you as you sip on your favorite drinks and soak in the vibrant atmosphere of the Glenside Irish Bar. Don’t miss out on a night filled with rhythm\, soul\, and pure musical magic! \n🎶 Live at Glenside Pub: Glenside Attic Sessions :  Cajazz featuring Carena Malocco & Alan Roberts  also the Pat Mac Band !\n📅 Date: May 16 th\n🕒 Time: 8:45  pm\n📍 Venue: Glenside Pub \nJoin us for an unforgettable evening of music : Cajazz featuring Carena Malocco & Alan Roberts  also the Pat Mac Band ! ! Don’t miss this sensational performance at Glenside Pub. Mark your calendars and get ready to groove! 🎸🎤 \n20 landscape road\, Dublin\, Ireland Dublin 14\nEmail: glenside@themangangroup.ie\nPhone: +353 1 298 5932
URL:https://theglensidepub.ie/event/glenside-attic-sessions-cajazz-featuring-carena-malocco-alan-roberts-also-the-pat-mac-band/
ATTACH;FMTTYPE=image/jpeg:https://theglensidepub.ie/wp-content/uploads/2024/04/glenside-pub-music-events-.jpg
END:VEVENT
BEGIN:VEVENT
DTSTART;TZID=UTC:20240505T223000
DTEND;TZID=UTC:20240506T003000
DTSTAMP:20260422T225950
CREATED:20240430T233313Z
LAST-MODIFIED:20240430T234145Z
UID:720-1714948200-1714955400@theglensidepub.ie
SUMMARY:Matt & Pat Burgess  Bank Holiday Weekend
DESCRIPTION:Get ready for a toe-tapping\, heartwarming music event at the Glenside Irish Pub in Dublin featuring the talented Burgess brothers\, Matt & Pat! Celebrate the Bank Holiday Weekend with lively tunes\, soulful melodies\, and a cozy atmosphere. From traditional Irish ballads to modern favorites\, their performance promises an unforgettable evening of musical magic. Join us for a night filled with good company\, great drinks\, and the infectious energy of Matt & Pat Burgess! \n🎶 Live at Glenside Pub: Matt & Pat Burgess  Bank Holiday Weekend\n📅 Date: May 5 th\n🕒 Time: 10:30  pm\n📍 Venue: Glenside Pub \nJoin us for an unforgettable evening of music Matt & Pat Burgess  Bank Holiday Weekend  \n20 landscape road\, Dublin\, Ireland Dublin 14\nEmail: glenside@themangangroup.ie\nPhone: +353 1 298 5932
URL:https://theglensidepub.ie/event/matt-pat-burgess-bank-holiday-weekend/
ATTACH;FMTTYPE=image/jpeg:https://theglensidepub.ie/wp-content/uploads/2024/04/glenside-pub-musicians.jpg
END:VEVENT
BEGIN:VEVENT
DTSTART;TZID=UTC:20240411T213000
DTEND;TZID=UTC:20240412T000000
DTSTAMP:20260422T225950
CREATED:20240326T163552Z
LAST-MODIFIED:20240410T215239Z
UID:699-1712871000-1712880000@theglensidepub.ie
SUMMARY:SPATS DAVENPORT and The Sugar Moon Orchestra also Alan Roberts a tribute to Freddie White
DESCRIPTION:🎶 Live at Glenside Pub: Spats Davenport & The Sugar Moon Orchestra with Alan Roberts Tribute to Freddie White\n📅 Date: April 11th\n🕒 Time: 09:30 pm\n📍 Venue: Glenside Pub \nJoin us for an unforgettable evening of music featuring Spats Davenport & The Sugar Moon Orchestra\, along with Alan Roberts paying tribute to Freddie White! Don’t miss this sensational performance at Glenside Pub. Mark your calendars and get ready to groove! 🎸🎤 \n20 landscape road\, Dublin\, Ireland Dublin 14\nEmail: glenside@themangangroup.ie\nPhone: +353 1 298 5932\n\nGet in early. Huge crowd expected.
URL:https://theglensidepub.ie/event/spats-davenport-and-the-sugar-moon-orchestra-also-alan-roberts-a-tribute-to-freddie-white/
ATTACH;FMTTYPE=image/jpeg:https://theglensidepub.ie/wp-content/uploads/2024/03/glenside-aussie.jpg
END:VEVENT
BEGIN:VEVENT
DTSTART;TZID=UTC:20240331T220000
DTEND;TZID=UTC:20240401T003000
DTSTAMP:20260422T225950
CREATED:20240326T161713Z
LAST-MODIFIED:20240326T182119Z
UID:685-1711922400-1711931400@theglensidepub.ie
SUMMARY:Zamo Riffman Live at Glenside Pub
DESCRIPTION:🎸 Zamo Riffman Live at Glenside Pub\n📅 Date: March 31\n🕒 Time: 10:00 pm – 12:30 pm\n📍 Venue: Glenside Pub \nDon’t miss the electrifying performance by Zamo Riffman at Glenside Pub! Get ready for a night of great music and entertainment. Mark your calendars and join us for an unforgettable experience! 🎶🎉 \nBookings: glenside@themangangroup.ie \nMusical Artist – Singer-Songwriter – Collaborator – Instrumentalist
URL:https://theglensidepub.ie/event/zammo-riffman/
LOCATION:Glenside PUB\, 20 Landscape Rd\, Rathfarnham\, Dublin 14\, Ireland\, Dublin\, Ireland
ATTACH;FMTTYPE=image/jpeg:https://theglensidepub.ie/wp-content/uploads/2024/03/zammo-riffman-at-glenside-pub.jpg
END:VEVENT
END:VCALENDAR