BEGIN:VCALENDAR
VERSION:2.0
PRODID:-//Glenside Irish Pub Dublin - ECPv6.15.17//NONSGML v1.0//EN
CALSCALE:GREGORIAN
METHOD:PUBLISH
X-ORIGINAL-URL:https://theglensidepub.ie
X-WR-CALDESC:Events for Glenside Irish Pub Dublin
REFRESH-INTERVAL;VALUE=DURATION:PT1H
X-Robots-Tag:noindex
X-PUBLISHED-TTL:PT1H
BEGIN:VTIMEZONE
TZID:UTC
BEGIN:STANDARD
TZOFFSETFROM:+0000
TZOFFSETTO:+0000
TZNAME:UTC
DTSTART:20230101T000000
END:STANDARD
END:VTIMEZONE
BEGIN:VEVENT
DTSTART;TZID=UTC:20241219T203000
DTEND;TZID=UTC:20241219T223000
DTSTAMP:20260422T220003
CREATED:20241216T011636Z
LAST-MODIFIED:20241216T011849Z
UID:781-1734640200-1734647400@theglensidepub.ie
SUMMARY:The Classic Acoustic Session
DESCRIPTION:The Classic Acoustic Session\n19th December 2024 | 8:30 PM\nGlenside Pub\, Churchtown \nJoin us for an unforgettable evening of live music and festive cheer!\nStand a chance to win a classic guitar for Christmas along with other fantastic prizes in our charity raffle. \nAll proceeds go to St. Vincent de Paul\, supporting those in need this holiday season. \nCome for the music\, stay for the spirit of giving! 🎶🎄
URL:https://theglensidepub.ie/event/the-classic-acoustic-session/
ATTACH;FMTTYPE=image/jpeg:https://theglensidepub.ie/wp-content/uploads/2024/12/WhatsApp-Image-2024-12-15-at-15.23.46_91c6579b.jpg
END:VEVENT
BEGIN:VEVENT
DTSTART;TZID=UTC:20250213T203000
DTEND;TZID=UTC:20250213T233000
DTSTAMP:20260422T220003
CREATED:20250129T094348Z
LAST-MODIFIED:20250129T094348Z
UID:785-1739478600-1739489400@theglensidepub.ie
SUMMARY:Attic Session – Live Music Night 🎶
DESCRIPTION:Attic Session – Live Music Night 🎶 \nJoin us for a night of incredible live music featuring CAJAZZ with CAREMNA MALLORCA and The Pat Mac Band! \n📅 Date: February 13th\, 2025\n⏰ Start Time: 8:30 PM\n📍 Venue: Glenside Pub – Top Lounge\, Churchtown \nExpect a soul-stirring mix of country\, blues\, soul\, and rock & roll in an intimate setting. A listening audience is especially welcome to fully enjoy the music experience. \nFor more details\, contact Noel at 087 683 38817 or reach out to Peter at the Glenside Pub. \n🎵 All are welcome – don’t miss out on a great night of live music! 🎶
URL:https://theglensidepub.ie/event/atticsession-live-music-night/
ATTACH;FMTTYPE=image/jpeg:https://theglensidepub.ie/wp-content/uploads/2025/01/glenside-pub.jpg
END:VEVENT
BEGIN:VEVENT
DTSTART;TZID=UTC:20250227T203000
DTEND;TZID=UTC:20250227T233000
DTSTAMP:20260422T220003
CREATED:20250224T093056Z
LAST-MODIFIED:20250224T093056Z
UID:790-1740688200-1740699000@theglensidepub.ie
SUMMARY:Attic Session – Live Music Night 🎶
DESCRIPTION:Glenside Guitar circle – Live Music Night 🎶 \n📅 Date: February 27th\, 2025\n⏰ Start Time: 8:30 PM\n📍 Venue: Glenside Pub – Top Lounge\, Churchtown \nFor more details\, contact Noel at 087 683 38817 or reach out to Peter at the Glenside Pub. \n🎵 All are welcome – don’t miss out on a great night of live music! 🎶
URL:https://theglensidepub.ie/event/attic-session-live-music-night-%f0%9f%8e%b6/
ATTACH;FMTTYPE=image/jpeg:https://theglensidepub.ie/wp-content/uploads/2025/02/WhatsApp-Image-2025-02-20-at-20.35.40_c1151d19.jpg
END:VEVENT
BEGIN:VEVENT
DTSTART;TZID=UTC:20250320T203000
DTEND;TZID=UTC:20250320T233000
DTSTAMP:20260422T220003
CREATED:20250317T113014Z
LAST-MODIFIED:20250317T113021Z
UID:794-1742502600-1742513400@theglensidepub.ie
SUMMARY:Glenside Attic Session 🎶
DESCRIPTION:Glenside Attic Session 🎶 \nLynda Lucas & Band – Performing the timeless music of Patsy Cline \n✨ Special guests: Niall Toner & Andrea Booth \n📅 March 20\, 2025\n🕣 8:45 PM\n📍 Glenside Pub\, Top Lounge\, Churchtown \n🎟 For more info\, contact Noel at 087 683 8817 \nDon’t miss an unforgettable night of classic country music! 🤠🎤
URL:https://theglensidepub.ie/event/glenside-attic-session-%f0%9f%8e%b6/
ATTACH;FMTTYPE=image/jpeg:https://theglensidepub.ie/wp-content/uploads/2025/03/aaaaaaa1111.jpg
END:VEVENT
BEGIN:VEVENT
DTSTART;TZID=UTC:20250410T203000
DTEND;TZID=UTC:20250410T233000
DTSTAMP:20260422T220003
CREATED:20250402T170552Z
LAST-MODIFIED:20250402T170712Z
UID:804-1744317000-1744327800@theglensidepub.ie
SUMMARY:Glenside Attic Session 🎶
DESCRIPTION:Glenside Attic Session 🎶 \nFeaturing: The Urban Mojo Blues Band and The Walsh Family\nEveryone is welcome – especially those who appreciate a good listening audience! \n📅 April 10\, 2025\n🕣 8:45 PM\n📍 Glenside Pub\, Top Lounge\, Churchtown \n🎟 For more info\, contact Noel at 087 683 8817
URL:https://theglensidepub.ie/event/glenside-attic-session-familly/
ATTACH;FMTTYPE=image/jpeg:https://theglensidepub.ie/wp-content/uploads/2025/04/party-glenside-pub.jpg
END:VEVENT
BEGIN:VEVENT
DTSTART;TZID=UTC:20250515T203000
DTEND;TZID=UTC:20250515T233000
DTSTAMP:20260422T220003
CREATED:20250430T175557Z
LAST-MODIFIED:20250430T175557Z
UID:812-1747341000-1747351800@theglensidepub.ie
SUMMARY:Glenside Attic Session 🎶
DESCRIPTION:🎶 The Attic Session – Live at The Glenside 🎶\nMay 15th\, 2025 | 8:30 PM\nTop Lounge\, The Glenside Pub\, Churchtown \nJoin us for an unforgettable evening of live music featuring: \n🎤 The Liz Bajer Band\nPerforming The Carpenters Songbook Tribute \n✨ With special guests: \nEoin & Gavin Walsh \nMichael Farrell \nCamilo Pietro \nNoel Ford \n🌟 Also featuring:\nEileen Gogan with special guests \nA warm\, welcoming night for music lovers — a listening audience is especially appreciated. \nAll welcome.\nDon’t miss this intimate celebration of timeless music and local talent.
URL:https://theglensidepub.ie/event/glenside-attic-session-%f0%9f%8e%b6-2/
ATTACH;FMTTYPE=image/jpeg:https://theglensidepub.ie/wp-content/uploads/2025/04/liz-baker-.jpg
END:VEVENT
BEGIN:VEVENT
DTSTART;TZID=UTC:20250529T203000
DTEND;TZID=UTC:20250529T233000
DTSTAMP:20260422T220003
CREATED:20250528T215924Z
LAST-MODIFIED:20250528T234301Z
UID:817-1748550600-1748561400@theglensidepub.ie
SUMMARY:Glenside Guitar Circle 🎶
DESCRIPTION:Glenside Guitar Circle\n🎸 The Classic Acoustic Session Since 2014\n📍 Glenside Pub\n🗓 Wednesday\, May 29th\n🕣 8:30 PM \nJoin us for a night of great music\, good vibes\, and acoustic classics!
URL:https://theglensidepub.ie/event/glenside-guitar-session/
ATTACH;FMTTYPE=image/jpeg:https://theglensidepub.ie/wp-content/uploads/2025/05/accustic-gitare.jpg
END:VEVENT
BEGIN:VEVENT
DTSTART;TZID=UTC:20250713T150000
DTEND;TZID=UTC:20250713T180000
DTSTAMP:20260422T220003
CREATED:20250620T143922Z
LAST-MODIFIED:20250620T144013Z
UID:821-1752418800-1752429600@theglensidepub.ie
SUMMARY:COUNTRY MUSIC HOEDOWN & FUNDRAISER
DESCRIPTION:COUNTRY MUSIC HOEDOWN & FUNDRAISER \nIn aid of the Irish Cancer Society\,\nIrish Motor Neurone Disease Association and Irish Hospice Foundation \nLEGENDS OF COUNTRY MUSIC\nwith Tom Horan & Band \nFeaturing Joe Ryan — Steel Guitar  Lynda Lucas — Queen of Country\nGavin Walsh — Lead Guitar  Pat McCullagh — Bass  Eoin Walsh — Cajon \nPlus Special Guests \nSUNDAY 13th JULY 2025 3-6 pm\nGLENSIDE PUB\, CHURCHTOWN\nOUTDOOR STAGE – GREAT FOOD – GREAT MUSIC – LINE DANCING \nGlenside Pub\, Churchtown\, Dublin 14. Ph: 01 298 5932\nContact 087 280 2530  info@tomhoran.ie  www.tomhoran.ie
URL:https://theglensidepub.ie/event/country-music-hoedown-fundraiser/
ATTACH;FMTTYPE=image/jpeg:https://theglensidepub.ie/wp-content/uploads/2025/06/WhatsApp-Image-2025-06-18-at-13.45.47_85526615.jpg
END:VEVENT
BEGIN:VEVENT
DTSTART;TZID=UTC:20250731T203000
DTEND;TZID=UTC:20250731T223000
DTSTAMP:20260422T220003
CREATED:20250730T143305Z
LAST-MODIFIED:20250730T143443Z
UID:827-1753993800-1754001000@theglensidepub.ie
SUMMARY:Glenside Guitar Circle 🎶
DESCRIPTION:Glenside Guitar Circle 🎸 The Classic Acoustic Session Since 2014 📍 Glenside Pub 🗓 Thursday\, july 31th 🕣 8:30 PM Join us for a night of great music\, good vibes\, and acoustic classics!
URL:https://theglensidepub.ie/event/glenside-guitar-circle-%f0%9f%8e%b6/
ATTACH;FMTTYPE=image/jpeg:https://theglensidepub.ie/wp-content/uploads/2025/07/WhatsApp-Image-2025-07-23-at-15.57.01_7f9b2896.jpg
END:VEVENT
END:VCALENDAR